BEGIN:VCALENDAR
VERSION:2.0
PRODID:-//Raccoon River Bible Camp - ECPv6.15.20//NONSGML v1.0//EN
CALSCALE:GREGORIAN
METHOD:PUBLISH
X-ORIGINAL-URL:https://iloverrbc.com
X-WR-CALDESC:Events for Raccoon River Bible Camp
REFRESH-INTERVAL;VALUE=DURATION:PT1H
X-Robots-Tag:noindex
X-PUBLISHED-TTL:PT1H
BEGIN:VTIMEZONE
TZID:America/Chicago
BEGIN:DAYLIGHT
TZOFFSETFROM:-0600
TZOFFSETTO:-0500
TZNAME:CDT
DTSTART:20230312T080000
END:DAYLIGHT
BEGIN:STANDARD
TZOFFSETFROM:-0500
TZOFFSETTO:-0600
TZNAME:CST
DTSTART:20231105T070000
END:STANDARD
BEGIN:DAYLIGHT
TZOFFSETFROM:-0600
TZOFFSETTO:-0500
TZNAME:CDT
DTSTART:20240310T080000
END:DAYLIGHT
BEGIN:STANDARD
TZOFFSETFROM:-0500
TZOFFSETTO:-0600
TZNAME:CST
DTSTART:20241103T070000
END:STANDARD
BEGIN:DAYLIGHT
TZOFFSETFROM:-0600
TZOFFSETTO:-0500
TZNAME:CDT
DTSTART:20250309T080000
END:DAYLIGHT
BEGIN:STANDARD
TZOFFSETFROM:-0500
TZOFFSETTO:-0600
TZNAME:CST
DTSTART:20251102T070000
END:STANDARD
BEGIN:DAYLIGHT
TZOFFSETFROM:-0600
TZOFFSETTO:-0500
TZNAME:CDT
DTSTART:20260308T080000
END:DAYLIGHT
BEGIN:STANDARD
TZOFFSETFROM:-0500
TZOFFSETTO:-0600
TZNAME:CST
DTSTART:20261101T070000
END:STANDARD
BEGIN:DAYLIGHT
TZOFFSETFROM:-0600
TZOFFSETTO:-0500
TZNAME:CDT
DTSTART:20270314T080000
END:DAYLIGHT
BEGIN:STANDARD
TZOFFSETFROM:-0500
TZOFFSETTO:-0600
TZNAME:CST
DTSTART:20271107T070000
END:STANDARD
END:VTIMEZONE
BEGIN:VEVENT
DTSTART;VALUE=DATE:20260418
DTEND;VALUE=DATE:20260419
DTSTAMP:20260425T101509
CREATED:20250909T210544Z
LAST-MODIFIED:20260303T191528Z
UID:4652-1776470400-1776556799@iloverrbc.com
SUMMARY:Spring Workday
DESCRIPTION:
URL:https://iloverrbc.com/event/spring-workday-2/
END:VEVENT
BEGIN:VEVENT
DTSTART;TZID=America/Chicago:20260402T173000
DTEND;TZID=America/Chicago:20260404T160000
DTSTAMP:20260425T101509
CREATED:20250909T210448Z
LAST-MODIFIED:20250909T210448Z
UID:4650-1775151000-1775318400@iloverrbc.com
SUMMARY:Easter Youth Retreat
DESCRIPTION:
URL:https://iloverrbc.com/event/easter-youth-retreat-3/
END:VEVENT
BEGIN:VEVENT
DTSTART;TZID=America/Chicago:20260227T173000
DTEND;TZID=America/Chicago:20260228T160000
DTSTAMP:20260425T101509
CREATED:20250909T210211Z
LAST-MODIFIED:20250909T210223Z
UID:4648-1772213400-1772294400@iloverrbc.com
SUMMARY:Winter Youth Retreat
DESCRIPTION:
URL:https://iloverrbc.com/event/winter-youth-retreat-2/
END:VEVENT
BEGIN:VEVENT
DTSTART;TZID=America/Chicago:20260102T173000
DTEND;TZID=America/Chicago:20260103T160000
DTSTAMP:20260425T101509
CREATED:20250909T210029Z
LAST-MODIFIED:20250909T210029Z
UID:4646-1767375000-1767456000@iloverrbc.com
SUMMARY:College & Career Retreat
DESCRIPTION:Speaker Dr. Tim Little
URL:https://iloverrbc.com/event/college-career-retreat-4/
END:VEVENT
BEGIN:VEVENT
DTSTART;TZID=America/Chicago:20251206T083000
DTEND;TZID=America/Chicago:20251206T160000
DTSTAMP:20260425T101509
CREATED:20250909T204134Z
LAST-MODIFIED:20250909T205715Z
UID:4637-1765009800-1765036800@iloverrbc.com
SUMMARY:Men's Retreat
DESCRIPTION:Speaker Pastor Scott Owen \n        Come up and stay Friday night\, Dec 5\, for a time of fellowship with other men!
URL:https://iloverrbc.com/event/mens-retreat-4/
END:VEVENT
BEGIN:VEVENT
DTSTART;TZID=America/Chicago:20251107T173000
DTEND;TZID=America/Chicago:20251108T160000
DTSTAMP:20260425T101509
CREATED:20250826T214820Z
LAST-MODIFIED:20250909T203812Z
UID:4612-1762536600-1762617600@iloverrbc.com
SUMMARY:November Youth Retreat
DESCRIPTION:Speaker Pastor Joe Turman
URL:https://iloverrbc.com/event/november-youth-retreat-4/
END:VEVENT
BEGIN:VEVENT
DTSTART;VALUE=DATE:20251025
DTEND;VALUE=DATE:20251026
DTSTAMP:20260425T101509
CREATED:20250826T214642Z
LAST-MODIFIED:20250826T214642Z
UID:4610-1761350400-1761436799@iloverrbc.com
SUMMARY:Fall Workday
DESCRIPTION:
URL:https://iloverrbc.com/event/fall-workday-3/
END:VEVENT
BEGIN:VEVENT
DTSTART;TZID=America/Chicago:20251004T090000
DTEND;TZID=America/Chicago:20251004T160000
DTSTAMP:20260425T101509
CREATED:20250826T214556Z
LAST-MODIFIED:20250826T214556Z
UID:4608-1759568400-1759593600@iloverrbc.com
SUMMARY:Ladies Day
DESCRIPTION:Speaker Faith Taylor
URL:https://iloverrbc.com/event/ladies-day-4/
END:VEVENT
BEGIN:VEVENT
DTSTART;TZID=America/Chicago:20250905T173000
DTEND;TZID=America/Chicago:20250906T160000
DTSTAMP:20260425T101509
CREATED:20250826T214401Z
LAST-MODIFIED:20250826T214401Z
UID:4606-1757093400-1757174400@iloverrbc.com
SUMMARY:September Youth Retreat
DESCRIPTION:Speaker Pastor Thomas Kline
URL:https://iloverrbc.com/event/september-youth-retreat-4/
END:VEVENT
BEGIN:VEVENT
DTSTART;TZID=America/Chicago:20250723T100000
DTEND;TZID=America/Chicago:20250726T140000
DTSTAMP:20260425T101509
CREATED:20241111T222703Z
LAST-MODIFIED:20250215T174123Z
UID:4189-1753264800-1753538400@iloverrbc.com
SUMMARY:Family Camp
DESCRIPTION:SPEAKER  Scott Owen – Baptist Church Planters    MISSIONARY  Andy & Christy Streit – Peru
URL:https://iloverrbc.com/event/family-camp-3/
END:VEVENT
BEGIN:VEVENT
DTSTART;TZID=America/Chicago:20250721T100000
DTEND;TZID=America/Chicago:20250722T150000
DTSTAMP:20260425T101509
CREATED:20241111T222540Z
LAST-MODIFIED:20250213T230115Z
UID:4187-1753092000-1753196400@iloverrbc.com
SUMMARY:Starters Camp
DESCRIPTION:SPEAKER  Rick Hamilton
URL:https://iloverrbc.com/event/starters-camp/
END:VEVENT
BEGIN:VEVENT
DTSTART;TZID=America/Chicago:20250714T100000
DTEND;TZID=America/Chicago:20250719T090000
DTSTAMP:20260425T101509
CREATED:20241111T222355Z
LAST-MODIFIED:20250213T230032Z
UID:4185-1752487200-1752915600@iloverrbc.com
SUMMARY:Senior High
DESCRIPTION:SPEAKER  Dave Glander – Reasons for Hope    MISSIONARY  Paul Avery – Argentina
URL:https://iloverrbc.com/event/senior-high-3/
END:VEVENT
BEGIN:VEVENT
DTSTART;TZID=America/Chicago:20250707T100000
DTEND;TZID=America/Chicago:20250712T090000
DTSTAMP:20260425T101509
CREATED:20241111T222220Z
LAST-MODIFIED:20250213T225655Z
UID:4183-1751882400-1752310800@iloverrbc.com
SUMMARY:Junior High
DESCRIPTION:SPEAKER Frank & April Figueroa – Reasons for Hope     MISSIONARY Glen & Tammy Galbraith – Great Britain
URL:https://iloverrbc.com/event/junior-high-3/
END:VEVENT
BEGIN:VEVENT
DTSTART;TZID=America/Chicago:20250623T100000
DTEND;TZID=America/Chicago:20250628T090000
DTSTAMP:20260425T101509
CREATED:20241111T221925Z
LAST-MODIFIED:20250213T225420Z
UID:4181-1750672800-1751101200@iloverrbc.com
SUMMARY:Junior 2
DESCRIPTION:SPEAKER Pastor Zac Patke – Theologic     MISSIONARY Art & Deb Brammer – New Zealand
URL:https://iloverrbc.com/event/junior-2-3/
END:VEVENT
BEGIN:VEVENT
DTSTART;TZID=America/Chicago:20250616T100000
DTEND;TZID=America/Chicago:20250621T090000
DTSTAMP:20260425T101509
CREATED:20241111T221535Z
LAST-MODIFIED:20250213T224640Z
UID:4177-1750068000-1750496400@iloverrbc.com
SUMMARY:Junior 1
DESCRIPTION:SPEAKER Joel Willoughby – Brains & Bibles    MISSIONARY Ron & Joy Hemsworth – Missionary Acres \n 
URL:https://iloverrbc.com/event/junior-1-3/
END:VEVENT
BEGIN:VEVENT
DTSTART;TZID=America/Chicago:20250609T160000
DTEND;TZID=America/Chicago:20250614T090000
DTSTAMP:20260425T101509
CREATED:20241111T221315Z
LAST-MODIFIED:20241111T221315Z
UID:4175-1749484800-1749891600@iloverrbc.com
SUMMARY:Staff Training
DESCRIPTION:
URL:https://iloverrbc.com/event/staff-training-3/
END:VEVENT
BEGIN:VEVENT
DTSTART;VALUE=DATE:20250426
DTEND;VALUE=DATE:20250427
DTSTAMP:20260425T101509
CREATED:20241111T220826Z
LAST-MODIFIED:20241111T220826Z
UID:4173-1745625600-1745711999@iloverrbc.com
SUMMARY:Work Retreat
DESCRIPTION:
URL:https://iloverrbc.com/event/work-retreat-2/
END:VEVENT
BEGIN:VEVENT
DTSTART;TZID=America/Chicago:20250417T173000
DTEND;TZID=America/Chicago:20250419T160000
DTSTAMP:20260425T101509
CREATED:20241111T220529Z
LAST-MODIFIED:20241111T220529Z
UID:4171-1744911000-1745078400@iloverrbc.com
SUMMARY:Easter Youth Retreat
DESCRIPTION:Speaker:  TBD
URL:https://iloverrbc.com/event/easter-youth-retreat-2/
END:VEVENT
BEGIN:VEVENT
DTSTART;TZID=America/Chicago:20250307T173000
DTEND;TZID=America/Chicago:20250308T160000
DTSTAMP:20260425T101509
CREATED:20241111T220257Z
LAST-MODIFIED:20250213T230351Z
UID:4169-1741368600-1741449600@iloverrbc.com
SUMMARY:Winter Youth Retreat
DESCRIPTION:Speaker: Dakota Holaday
URL:https://iloverrbc.com/event/winter-youth-retreat/
END:VEVENT
BEGIN:VEVENT
DTSTART;TZID=America/Chicago:20250103T173000
DTEND;TZID=America/Chicago:20250104T160000
DTSTAMP:20260425T101509
CREATED:20241111T220119Z
LAST-MODIFIED:20241111T220119Z
UID:4167-1735925400-1736006400@iloverrbc.com
SUMMARY:College & Career Retreat
DESCRIPTION:Speaker: Del Mohler \nTopic:  Biblical and Practical Financial Principles
URL:https://iloverrbc.com/event/college-career-retreat-3/
END:VEVENT
BEGIN:VEVENT
DTSTART;TZID=America/Chicago:20241213T170000
DTEND;TZID=America/Chicago:20241214T130000
DTSTAMP:20260425T101509
CREATED:20240924T191133Z
LAST-MODIFIED:20241016T005837Z
UID:4099-1734109200-1734181200@iloverrbc.com
SUMMARY:Men's Retreat
DESCRIPTION:TITLE: “That They May Know HIM” Psalm 78:6-7a\nSPEAKERS: Pastor Dave and Josh Heisterkamp\nTIME: Friday 5:00 pm – Saturday 1:00 pm\nCOST: $20 Teens & College\, $50 Adults
URL:https://iloverrbc.com/event/mens-retreat-3/
END:VEVENT
BEGIN:VEVENT
DTSTART;TZID=America/Chicago:20241101T170000
DTEND;TZID=America/Chicago:20241102T160000
DTSTAMP:20260425T101509
CREATED:20240731T200509Z
LAST-MODIFIED:20240731T200509Z
UID:3931-1730480400-1730563200@iloverrbc.com
SUMMARY:November Youth Retreat
DESCRIPTION:
URL:https://iloverrbc.com/event/november-youth-retreat-3/
END:VEVENT
BEGIN:VEVENT
DTSTART;VALUE=DATE:20241026
DTEND;VALUE=DATE:20241027
DTSTAMP:20260425T101509
CREATED:20240731T200336Z
LAST-MODIFIED:20240731T200336Z
UID:3929-1729900800-1729987199@iloverrbc.com
SUMMARY:Fall Workday
DESCRIPTION:
URL:https://iloverrbc.com/event/fall-workday-2/
END:VEVENT
BEGIN:VEVENT
DTSTART;VALUE=DATE:20241005
DTEND;VALUE=DATE:20241006
DTSTAMP:20260425T101509
CREATED:20240731T200127Z
LAST-MODIFIED:20240731T200927Z
UID:3924-1728086400-1728172799@iloverrbc.com
SUMMARY:Ladies Day
DESCRIPTION:Speaker: Brenda Spencer is the daughter of Pastor Francis Henderson who volunteered many hours working on projects at RRBC.  Brenda is a former camper and counselor.  Plan to come and hear her amazing “story” of how God took her from small town Iowa to a large Christian school in Kansas City\, MO then to a Mission School in the Ivory Coast West Africa and now to Mountain Home\, AR.
URL:https://iloverrbc.com/event/ladies-day-3/
END:VEVENT
BEGIN:VEVENT
DTSTART;TZID=America/Chicago:20240906T170000
DTEND;TZID=America/Chicago:20240907T160000
DTSTAMP:20260425T101509
CREATED:20240731T195758Z
LAST-MODIFIED:20240731T195758Z
UID:3922-1725642000-1725724800@iloverrbc.com
SUMMARY:September Youth Retreat
DESCRIPTION:
URL:https://iloverrbc.com/event/september-youth-retreat-3/
END:VEVENT
BEGIN:VEVENT
DTSTART;TZID=America/Chicago:20240724T080000
DTEND;TZID=America/Chicago:20240727T170000
DTSTAMP:20260425T101509
CREATED:20231028T231547Z
LAST-MODIFIED:20231028T231547Z
UID:3550-1721808000-1722099600@iloverrbc.com
SUMMARY:Family Camp
DESCRIPTION:
URL:https://iloverrbc.com/event/family-camp-2/
END:VEVENT
BEGIN:VEVENT
DTSTART;TZID=America/Chicago:20240722T080000
DTEND;TZID=America/Chicago:20240723T170000
DTSTAMP:20260425T101509
CREATED:20231028T231500Z
LAST-MODIFIED:20231028T231500Z
UID:3548-1721635200-1721754000@iloverrbc.com
SUMMARY:Starters
DESCRIPTION:
URL:https://iloverrbc.com/event/starters-2/
END:VEVENT
BEGIN:VEVENT
DTSTART;TZID=America/Chicago:20240715T080000
DTEND;TZID=America/Chicago:20240720T170000
DTSTAMP:20260425T101509
CREATED:20231028T231424Z
LAST-MODIFIED:20231028T231424Z
UID:3546-1721030400-1721494800@iloverrbc.com
SUMMARY:Senior High
DESCRIPTION:
URL:https://iloverrbc.com/event/senior-high-2/
END:VEVENT
BEGIN:VEVENT
DTSTART;TZID=America/Chicago:20240708T080000
DTEND;TZID=America/Chicago:20240713T170000
DTSTAMP:20260425T101509
CREATED:20231028T231344Z
LAST-MODIFIED:20231028T231344Z
UID:3544-1720425600-1720890000@iloverrbc.com
SUMMARY:Junior High
DESCRIPTION:
URL:https://iloverrbc.com/event/junior-high-2/
END:VEVENT
BEGIN:VEVENT
DTSTART;TZID=America/Chicago:20240624T080000
DTEND;TZID=America/Chicago:20240629T170000
DTSTAMP:20260425T101509
CREATED:20231028T231303Z
LAST-MODIFIED:20231028T231303Z
UID:3542-1719216000-1719680400@iloverrbc.com
SUMMARY:Junior 2
DESCRIPTION:
URL:https://iloverrbc.com/event/junior-2-2/
END:VEVENT
END:VCALENDAR